BEGIN:VCALENDAR
VERSION:2.0
PRODID:-//ChamberMaster//Event Calendar 2.0//EN
METHOD:PUBLISH
X-PUBLISHED-TTL:P3D
REFRESH-INTERVAL:P3D
CALSCALE:GREGORIAN
BEGIN:VEVENT
DTSTART:20240328T213000Z
DTEND:20240329T010000Z
X-MICROSOFT-CDO-ALLDAYEVENT:FALSE
SUMMARY:2024 Annual Meeting & Member Appreciation Dinner
DESCRIPTION:Jaffrey Chamber of Commerce\n\nAnnual Meeting & Member Appreciation\n\n\n\nThursday\, March 28\, 2024\n\n\n\nJaffrey VFW Post 5613\n\ncatered by Peter Constant\n\n\n\nEvent Schedule\n\n\n\n5:30 - 6:00 PM - Cocktails\n\n\n\nCheese Table & Cash Bar*\n\n*cash or check only\, no credit cards\n\n\n\n6:15 PM - Dinner\n\n\n\nMeal Choices\n\nBruschetta Chicken (GF)\n\ngrilled chicken topped with freshly made bruschetta and melted mozzarella\, served over quinoa\n\nBeef Tenderloin (GF)\n\n8 oz. hand-cut filet grilled and served with mashed potatoes and topped with b arnaise.\n\n\n\nAlfredo Spaghetti Squash (GF)\n\ntender spaghetti squash topped with house-made tomato and vegetable spaghetti sauce with parmesan on the side\n\n\n\nGF = Gluten Free\n\nAll meals include Garden Salad and Assorted Dessert Squares\n\n\n\nPresentation of Awards\n\n\n\nCitizen of the Year\, Business of the Year\, Non-Profit of the Year\n\n\n\n\n\n$40 per person / reservations required\n\n\n\nRegister by March 20\, 2024\n\nNo refunds for cancelations after March 20\, 2024\n\n\n\nSPONSORSHIP OPPORTUNITIES AVAILABLE\n\nBecome a sponsor and have your business featured at the Annual Meeting.\n\nShow your support for the Jaffrey Chamber and local community.\n\nYour sponsorship and generosity are greatly appreciated!\n\n\n\nDownload Sponsorship Form for More Information
X-ALT-DESC;FMTTYPE=text/html:<div style="text-align: center\;">\n<p><span style="font-size:26px\;"><strong style="text-align: center\;"><span style="color: rgb(0\, 128\, 97)\;">Jaffrey Chamber of Commerce</span></strong><br />\nAnnual Meeting &amp\; Member Appreciation</span><br />\n<br />\n<span style="font-size:22px\;"><strong><span style="color: rgb(0\, 128\, 97)\;">Thursday\, March 28\, 2024</span></strong></span><br />\n<br />\n<strong><span style="font-size: 16px\;">Jaffrey VFW Post 5613</span></strong><br />\n<em><span style="font-size: 16px\;"><span style="font-size:14px\;">catered by Peter Constant</span></span></em><br />\n<br />\n<span style="font-size:24px\;"><strong>Event Schedule</strong></span><br />\n<br />\n<span style="font-size:16px\; color:#008061\;"><strong>5:30 - 6:00 PM - Cocktails</strong></span><br />\n<br />\n<strong>Cheese&nbsp\;Table &amp\; Cash Bar*</strong><br />\n<span style="font-size:11px\;">*<em>cash or check only\, no credit cards</em></span><br />\n<br />\n<strong><span style="font-size:16px\; color:#008061\;">6:15 PM - Dinner</span></strong><br />\n<br />\n<span style="font-size:16px\;"><b>Meal Choices</b></span></p>\n\n<p><b>Bruschetta Chicken (GF)</b><br />\n<span style="font-size:12px\;"><em>grilled chicken topped with freshly made bruschetta and melted mozzarella\, served over quinoa</em></span></p>\n\n<p><strong>Beef Tenderloin (GF)</strong><br />\n<i style=""><span style="font-size: 12px\;">8 oz. hand-cut filet grilled and served with mashed potatoes and topped with b&eacute\;arnaise.</span></i><br />\n<br />\n<strong>Alfredo Spaghetti Squash (GF)</strong><br />\n<span style="font-size:12px\;"><em>tender spaghetti squash topped with house-made tomato and vegetable spaghetti sauce with parmesan on the side</em><br />\n<br />\n<strong>GF = Gluten Free</strong></span></p>\n\n<p style="color: rgb(34\, 34\, 34)\; font-family: Arial\, Helvetica\, sans-serif\; font-size: small\;"><span style="font-size:14px\;"><strong>All meals include&nbsp\;Garden Salad and Assorted Dessert Squares</strong></span></p>\n\n<p><br />\n<strong><span style="font-size:18px\;">Presentation of Awards</span><br />\n<br />\n<span style="font-size:16px\;"><span style="color:#048264\;">Citizen of the Year\,&nbsp\;Business of the Year\,&nbsp\;</span></span></strong><strong><span style="font-size:16px\;"><span style="color:#048264\;">Non-Profit of the Year</span></span></strong><br />\n<br />\n<br />\n<span style="font-size:18px\;"><strong>$40 per person / reservations required</strong></span><br />\n<br />\n<span style="color:#048264\;"><strong>Register&nbsp\;by March 20\, 2024<br />\nNo refunds for cancelations&nbsp\;after March 20\, 2024</strong></span><br />\n<br />\n<strong><span style="font-size:20px\;">SPONSORSHIP OPPORTUNITIES AVAILABLE</span></strong></p>\n\n<p style="line-height: 24px\; word-break: break-word\; text-align: center\; font-size: 20px\;"><span style="font-size: 16px\; line-height: 19px\;"><em>Become a sponsor and have your business featured at the Annual Meeting.<br />\nShow your support for the Jaffrey Chamber and local community.<br />\nYour sponsorship and</em><em> generosity </em><em>are greatly appreciated!</em></span><br />\n<br />\n<a href="https://www.jaffreychamber.com/assets/pdf/2024+Annual+Meeting+Save+the+Date+-+Sponsorship+Opportunities"><strong><span style="font-size: 16px\; line-height: 19px\;">Download Sponsorship Form for More Information</span></strong></a>&nbsp\;</p>\n\n<p style="line-height: 24px\; word-break: break-word\; text-align: center\; font-size: 20px\;">&nbsp\;</p>\n</div>\n
LOCATION:Jaffrey VFW Post 5613
UID:e.1846.11737
SEQUENCE:3
DTSTAMP:20260420T115650Z
URL:https://business.jaffreychamber.com/events/details/2024-annual-meeting-member-appreciation-dinner-11737
END:VEVENT

END:VCALENDAR
