BEGIN:VCALENDAR
VERSION:2.0
PRODID:-//ChamberMaster//Event Calendar 2.0//EN
METHOD:PUBLISH
X-PUBLISHED-TTL:P3D
REFRESH-INTERVAL:P3D
CALSCALE:GREGORIAN
BEGIN:VEVENT
DTSTART:20260326T213000Z
DTEND:20260326T233000Z
X-MICROSOFT-CDO-ALLDAYEVENT:FALSE
SUMMARY:2026 Annual Meeting & Cocktail Reception
DESCRIPTION:Annual Awards to be presented:\n\n2025 Business of the Year\n\n2025 Non-Profit of the Year \n\n2025 Citizen of the Year \n\n\n\nPlease join us as we celebrate awardees!
X-ALT-DESC;FMTTYPE=text/html:<div style="text-align: center\;"><em><span style="font-family:arial\;"><span style="font-size:16px\;"><strong>Annual Awards to be presented:<br />\n2025&nbsp\;Business of the Year<br />\n2025&nbsp\;Non-Profit of the Year&nbsp\;<br />\n2025 Citizen of the Year&nbsp\;<br />\n<br />\nPlease join us as we celebrate awardees!</strong></span></span></em></div>\n<br />\n&nbsp\;
LOCATION:
UID:e.1846.12223
SEQUENCE:3
DTSTAMP:20260421T082805Z
URL:https://business.jaffreychamber.com/events/details/2026-annual-awards-12223
END:VEVENT

END:VCALENDAR
