BEGIN:VCALENDAR
VERSION:2.0
PRODID:-//ChamberMaster//Event Calendar 2.0//EN
METHOD:PUBLISH
X-PUBLISHED-TTL:P3D
REFRESH-INTERVAL:P3D
CALSCALE:GREGORIAN
BEGIN:VEVENT
DTSTART:20260501T210000Z
DTEND:20260501T220000Z
X-MICROSOFT-CDO-ALLDAYEVENT:FALSE
SUMMARY:2026 Stories to Share - Joe Steinfield
DESCRIPTION:Gone Fishin'   A Trial Lawyer's Memories\n\n\nOnce you buy your tickets\, your name is automatically put on our list. No need to print out or bring your tickets to the event.\n\nWe have free parking in our parking lot behind our building or street parking in front of the building.
X-ALT-DESC;FMTTYPE=text/html:<p style="box-sizing: border-box\; padding: 0px 0px 12px\; margin: 0px 0px 8px\; color: rgb(88\, 81\, 99)\; font-family: &quot\;Neue Plak&quot\;\, -apple-system\, BlinkMacSystemFont\, Roboto\, &quot\;Helvetica Neue&quot\;\, Helvetica\, Tahoma\, Arial\, sans-serif\; font-size: 18px\; letter-spacing: 0.1px\;">&nbsp\; &nbsp\; &nbsp\; &nbsp\; &nbsp\; &nbsp\; &nbsp\; &nbsp\; &nbsp\; &nbsp\; &nbsp\; Gone Fishin&rsquo\; &ndash\; A Trial Lawyer&rsquo\;s Memories</p>\n\n<div style="box-sizing: border-box\; padding: 0px\; margin: 0px\; color: rgb(88\, 81\, 99)\; font-family: &quot\;Neue Plak&quot\;\, -apple-system\, BlinkMacSystemFont\, Roboto\, &quot\;Helvetica Neue&quot\;\, Helvetica\, Tahoma\, Arial\, sans-serif\; font-size: 18px\; letter-spacing: 0.1px\;">\n<p style="box-sizing: border-box\; padding: 0px 0px 12px\; margin: 0px 0px 8px\;">Once you buy your tickets\, your name is automatically put on our list. No need to print out or bring your tickets to the event.</p>\n\n<p style="box-sizing: border-box\; padding: 0px 0px 12px\; margin: 0px 0px 8px\;">We have free parking in our parking lot behind our building or street parking in front of the building.</p>\n</div>\n
LOCATION:
UID:e.1846.12267
SEQUENCE:3
DTSTAMP:20260422T082750Z
URL:https://business.jaffreychamber.com/events/details/2026-stories-to-share-joe-steinfield-12267
END:VEVENT

END:VCALENDAR
