BEGIN:VCALENDAR
VERSION:2.0
PRODID:-//ChamberMaster//Event Calendar 2.0//EN
METHOD:PUBLISH
X-PUBLISHED-TTL:P3D
REFRESH-INTERVAL:P3D
CALSCALE:GREGORIAN
BEGIN:VEVENT
DTSTART:20240406T233000Z
DTEND:20240407T013000Z
X-MICROSOFT-CDO-ALLDAYEVENT:FALSE
SUMMARY:BILL CONNORS AS ELTON JOHN
DESCRIPTION:BILL CONNORS AS ELTON JOHN
X-ALT-DESC;FMTTYPE=text/html:BILL CONNORS AS ELTON JOHN
LOCATION:The Park Theatre
UID:e.1846.11784
SEQUENCE:3
DTSTAMP:20260424T080559Z
URL:https://business.jaffreychamber.com/events/details/bill-connors-as-elton-john-11784
END:VEVENT

END:VCALENDAR
