BEGIN:VCALENDAR
VERSION:2.0
PRODID:-//ChamberMaster//Event Calendar 2.0//EN
METHOD:PUBLISH
X-PUBLISHED-TTL:P3D
REFRESH-INTERVAL:P3D
CALSCALE:GREGORIAN
BEGIN:VEVENT
DTSTART:20240718T230000Z
DTEND:20240719T010000Z
X-MICROSOFT-CDO-ALLDAYEVENT:FALSE
SUMMARY:Electric Earth Concerts presents "Trois Frères"
DESCRIPTION:Electric Earth Concerts presents: Trois Fr res.\n\n\n\nThree French composers come to life in the hands of pianist Mihae Lee and a band of eight distinguished musicians--the first of two collaborations this season with the Sebago-Long Lake festival. Stephen Taylor\, oboe\, Adrian Morejon\, bassoon\, Benjamin Fingland\, clarinet\; William Purvis\, horn\, Gabriela Diaz\, violin\; Thomas Kraines\, cello\; and EEC Artistic Directors Laura Gilbert and Jonathan Bagg. The program includes Fran ois Devienne: Quartet for Bassoon and Strings\, Francis Poulenc: Sextet for Piano and Winds\, and Gabriel Faur : Piano Quartet No. 1 in C Minor\, Op. 15.\n\n\n\nAdmission is $30\, payable online (www.electriceathconcerts.org) or at the door via cash or check. For more information contact Joan Epro at 603.499.6216 or see our website.
X-ALT-DESC;FMTTYPE=text/html:Electric Earth Concerts presents: Trois Fr&egrave\;res.<br />\n<br />\nThree French composers come to life in the hands of pianist Mihae Lee and a band of eight distinguished musicians--the first of two collaborations this season with the Sebago-Long Lake festival. Stephen Taylor\, oboe\, Adrian Morejon\, bassoon\, Benjamin Fingland\, clarinet\; William Purvis\, horn\, Gabriela Diaz\, violin\; Thomas Kraines\, cello\; and EEC Artistic Directors Laura Gilbert and Jonathan Bagg. The program includes Fran&ccedil\;ois Devienne: Quartet for Bassoon and Strings\, Francis Poulenc: Sextet for Piano and Winds\, and Gabriel Faur&eacute\;: Piano Quartet No. 1 in C Minor\, Op. 15.<br />\n<br />\nAdmission is $30\, payable online (www.electriceathconcerts.org) or at the door via cash or check. For more information contact Joan Epro at 603.499.6216 or see our website.
LOCATION:First Church in Jaffrey
UID:e.1846.11837
SEQUENCE:3
DTSTAMP:20260423T235304Z
URL:https://business.jaffreychamber.com/events/details/electric-earth-concerts-presents-trois-fr&#232;res-11837
END:VEVENT

END:VCALENDAR
