BEGIN:VCALENDAR
VERSION:2.0
PRODID:-//ChamberMaster//Event Calendar 2.0//EN
METHOD:PUBLISH
X-PUBLISHED-TTL:P3D
REFRESH-INTERVAL:P3D
CALSCALE:GREGORIAN
BEGIN:VEVENT
DTSTART:20230922T233000Z
DTEND:20230923T013000Z
X-MICROSOFT-CDO-ALLDAYEVENT:FALSE
SUMMARY:ROBIN: A one-man show starring Roger Kabler as Robin Williams – Fri Sept 22 – 7:30 pm
DESCRIPTION:ROBIN: A one-man show starring Roger Kabler as Robin Williams   Fri Sept 22   7:30 pm "Astonishing." -NY Daily News Marino Live Creative in association with Legends of Comedy Presents  ROBIN: The Ultimate Robin Williams Tribute Experience! Starring Comic & Actor\n\n\n\nRoger Kabler "Folks in the theater gasped when Kabler came on stage. Not because of his rainbow suspenders\, but because of his resemblance to Williams" -Orlando Sentinel Spend an evening with America's premier Robin Williams tribute artist. The show you will see is funny\, poignant\, and sometimes just a wild ride through the mind of a lovable madman. As one of comedy's icons\, Robin always seemed to be teetering on the edge of childlike innocence even when he was being naughty. If you never had the chance to see him in concert\, now is the time  This hysterical and emotional show is performed by Comic/Actor Roger Kabler\, who appeared on CBS' "The Carol Burnett Show" and in the lead role of Bobby Soul in the short-lived NBC sitcom Rhythm & Blues. "Kabler does a remarkable job recreating Williams' hysterical one-liners and irrepressible vocal explosions!" -Orlando Weekly\n\n\n\nTickets $25. All seats are reserved. 18+\, some content for mature audiences.
X-ALT-DESC;FMTTYPE=text/html:<br />\n<span style="font-size:18px\;">ROBIN: A one-man show starring Roger Kabler as Robin Williams &ndash\; Fri Sept 22 &ndash\; 7:30 pm &ldquo\;Astonishing.&rdquo\; -NY Daily News Marino Live Creative in association with Legends of Comedy Presents&hellip\; ROBIN: The Ultimate Robin Williams Tribute Experience! Starring Comic &amp\; Actor<br />\n<br />\nRoger Kabler &ldquo\;Folks in the theater gasped when Kabler came on stage. Not because of his rainbow suspenders\, but because of his resemblance to Williams&rdquo\; -Orlando Sentinel Spend an evening with America&rsquo\;s premier Robin Williams tribute artist. The show you will see is funny\, poignant\, and sometimes just a wild ride through the mind of a lovable madman. As one of comedy&rsquo\;s icons\, Robin always seemed to be teetering on the edge of childlike innocence even when he was being naughty. If you never had the chance to see him in concert\, now is the time&hellip\; This hysterical and emotional show is performed by Comic/Actor Roger Kabler\, who appeared on CBS&rsquo\; &ldquo\;The Carol Burnett Show&rdquo\; and in the lead role of Bobby Soul in the short-lived NBC sitcom Rhythm &amp\; Blues. &ldquo\;Kabler does a remarkable job recreating Williams&rsquo\; hysterical one-liners and irrepressible vocal explosions!&rdquo\; -Orlando Weekly<br />\n<br />\nTickets $25. All seats are reserved. 18+\, some content for mature audiences.</span>
LOCATION:The Park Theatre
UID:e.1846.11388
SEQUENCE:3
DTSTAMP:20260421T002710Z
URL:https://business.jaffreychamber.com/events/details/robin-a-one-man-show-starring-roger-kabler-as-robin-williams-fri-sept-22-7-30-pm-11388
END:VEVENT

END:VCALENDAR
